BEGIN:VCALENDAR
VERSION:2.0
CALSCALE:GREGORIAN
PRODID:adamgibbons/ics
METHOD:PUBLISH
X-PUBLISHED-TTL:PT1H
BEGIN:VEVENT
UID:121@www.coolwashtenaw.events
SUMMARY:Animal Farm by The Dreamland Puppet Troupe
DTSTAMP:20260423T125222Z
DTSTART:20260423T230000Z
DTEND:20260517T004500Z
URL:https://www.coolwashtenaw.events/event/animal-farm-by-the-dreamland-pup
	pet-troupe
LOCATION:Dreamland Theater - 26 N. Washington Ypsilanti
STATUS:CONFIRMED
CATEGORIES:Puppets,Theater
END:VEVENT
END:VCALENDAR
