BEGIN:VCALENDAR
VERSION:2.0
CALSCALE:GREGORIAN
PRODID:adamgibbons/ics
METHOD:PUBLISH
X-PUBLISHED-TTL:PT1H
BEGIN:VEVENT
UID:126@www.coolwashtenaw.events
SUMMARY:Queer Utopia
DTSTAMP:20260423T111948Z
DTSTART:20260502T000000Z
DTEND:20260502T060000Z
DESCRIPTION:🩷🏳️‍⚧️🏴 MAY DAY GAY DAY 🏴🏳️‍⚧️🩷\n\nCalling all workers and non-workers 
	alike for a night of generative degeneracy!\nLet us come together in dance
	 as we reject the meaning imposed on our bodies by\noppressive dominating 
	systems and revel together in our collective power🔥\n\nFeaturing\n\n🩷 Mikk
	i the DJ\n\n🖤 DJ Daddy\n\n🩷 NO FUTURE\n\n🖤 Eusebius on lights\n\n🩷 RA Game
	s / flagging bracelets / cuddle couch\n\nQueer Utopia is a queer and trans
	 party hosted by NO FUTURE and friends.\n\n$10 suggested/NOTA\, 21+\, dres
	s sexy\, KN95 masks expected\, cash bar/atm\navailable\, EXPECT TO TIP THE
	 WORKERS EXTRA WELL\n\nVENUE: Regal Beagle. An antif🤍scist punk bar in a n
	o-step entry building off of\nMichigan Ave.\n\nPARKING: Limited lot parkin
	g & additional free side-street parking.\n\nACCESSIBILITY: 2 bathrooms at 
	side-stage. 1 entrance and 3 exits (front\, pool\nhall\, emergency exit pa
	st the bar).\n\nAMENITIES: Air filters. KN95 masks to share. Glow bracelet
	s to flag desires.\nCash bar with ATM. Pool hall.\n\nVIBES: Will be modera
	tely packed. Medium to loud Volume level.\n\nDISCLAIMER: There is a survei
	llance system along the bar and near the kitchen.
URL:https://www.coolwashtenaw.events/event/queer-utopia
LOCATION:Regal Beagle - 817 E Michigan Ave\, Ypsilanti
STATUS:CONFIRMED
CATEGORIES:Dancing,May Day,Music,Queer
X-ALT-DESC;FMTTYPE=text/html:<p>🩷🏳️‍⚧️🏴 MAY DAY GAY DAY 🏴🏳️‍⚧️🩷</p><p>Calling all w
	orkers and non-workers alike for a night of generative degeneracy! Let us 
	come together in dance as we reject the meaning imposed on our bodies by o
	ppressive dominating systems and revel together in our collective power🔥</
	p><p>Featuring </p><p>🩷 Mikki the DJ</p><p>🖤 DJ Daddy</p><p>🩷 NO FUTURE</p
	><p>🖤 Eusebius on lights</p><p>🩷 RA Games / flagging bracelets / cuddle co
	uch</p><p>Queer Utopia is a queer and trans party hosted by NO FUTURE and 
	friends.</p><p>$10 suggested/NOTA, 21+, dress sexy, KN95 masks expected, c
	ash bar/atm available, EXPECT TO TIP THE WORKERS EXTRA WELL</p><p>VENUE: R
	egal Beagle. An antif🤍scist punk bar in a no-step entry building off of Mi
	chigan Ave.</p><p>PARKING: Limited lot parking &amp; additional free side-
	street parking.</p><p>ACCESSIBILITY: 2 bathrooms at side-stage. 1 entrance
	 and 3 exits (front, pool hall, emergency exit past the bar).</p><p>AMENIT
	IES: Air filters. KN95 masks to share. Glow bracelets to flag desires. Cas
	h bar with ATM. Pool hall.</p><p>VIBES: Will be moderately packed. Medium 
	to loud Volume level.</p><p>DISCLAIMER: There is a surveillance system alo
	ng the bar and near the kitchen.</p>
BEGIN:VALARM
ACTION:DISPLAY
DESCRIPTION:Queer Utopia
TRIGGER:-PT1H
END:VALARM
END:VEVENT
END:VCALENDAR
