BEGIN:VCALENDAR
VERSION:2.0
CALSCALE:GREGORIAN
PRODID:adamgibbons/ics
METHOD:PUBLISH
X-PUBLISHED-TTL:PT1H
BEGIN:VEVENT
UID:122@www.coolwashtenaw.events
SUMMARY:Clothing Swap
DTSTAMP:20260420T022943Z
DTSTART:20260517T190000Z
DTEND:20260518T000000Z
DESCRIPTION:Bring stuff\, take stuff\, either or both!\n\nClothes sorted by
	 size\, not gender.\n\nMasks required and provided. If you have a conditio
	n that makes masking\ndifficult\, please see us at the front table.
URL:https://www.coolwashtenaw.events/event/clothing-swap-4
LOCATION:Ypsilanti Marketplace Hall - 16 S. Washington St\, Ypsilanti
STATUS:CONFIRMED
CATEGORIES:Circular Economy,Fashion,Free Stuff,Masked,Monthly,Queer,Volunte
	ering
X-ALT-DESC;FMTTYPE=text/html:<p>Bring stuff, take stuff, either or both! </
	p><p>Clothes sorted by size, not gender. </p><p>Masks required and provide
	d. If you have a condition that makes masking difficult, please see us at 
	the front table.</p>
BEGIN:VALARM
ACTION:DISPLAY
DESCRIPTION:Clothing Swap
TRIGGER:-PT1H
END:VALARM
END:VEVENT
END:VCALENDAR
